BEGIN:VCALENDAR
VERSION:2.0
PRODID:-//Pymmes BrookERS  - ECPv6.15.20//NONSGML v1.0//EN
CALSCALE:GREGORIAN
METHOD:PUBLISH
X-ORIGINAL-URL:https://pymmesbrookers.org.uk
X-WR-CALDESC:Events for Pymmes BrookERS 
REFRESH-INTERVAL;VALUE=DURATION:PT1H
X-Robots-Tag:noindex
X-PUBLISHED-TTL:PT1H
BEGIN:VTIMEZONE
TZID:Europe/London
BEGIN:DAYLIGHT
TZOFFSETFROM:+0000
TZOFFSETTO:+0100
TZNAME:BST
DTSTART:20220327T010000
END:DAYLIGHT
BEGIN:STANDARD
TZOFFSETFROM:+0100
TZOFFSETTO:+0000
TZNAME:GMT
DTSTART:20221030T010000
END:STANDARD
BEGIN:DAYLIGHT
TZOFFSETFROM:+0000
TZOFFSETTO:+0100
TZNAME:BST
DTSTART:20230326T010000
END:DAYLIGHT
BEGIN:STANDARD
TZOFFSETFROM:+0100
TZOFFSETTO:+0000
TZNAME:GMT
DTSTART:20231029T010000
END:STANDARD
BEGIN:DAYLIGHT
TZOFFSETFROM:+0000
TZOFFSETTO:+0100
TZNAME:BST
DTSTART:20240331T010000
END:DAYLIGHT
BEGIN:STANDARD
TZOFFSETFROM:+0100
TZOFFSETTO:+0000
TZNAME:GMT
DTSTART:20241027T010000
END:STANDARD
BEGIN:DAYLIGHT
TZOFFSETFROM:+0000
TZOFFSETTO:+0100
TZNAME:BST
DTSTART:20250330T010000
END:DAYLIGHT
BEGIN:STANDARD
TZOFFSETFROM:+0100
TZOFFSETTO:+0000
TZNAME:GMT
DTSTART:20251026T010000
END:STANDARD
BEGIN:DAYLIGHT
TZOFFSETFROM:+0000
TZOFFSETTO:+0100
TZNAME:BST
DTSTART:20260329T010000
END:DAYLIGHT
BEGIN:STANDARD
TZOFFSETFROM:+0100
TZOFFSETTO:+0000
TZNAME:GMT
DTSTART:20261025T010000
END:STANDARD
END:VTIMEZONE
BEGIN:VEVENT
DTSTART;TZID=Europe/London:20250222T100000
DTEND;TZID=Europe/London:20250222T130000
DTSTAMP:20260424T192230
CREATED:20241121T203845Z
LAST-MODIFIED:20250128T145836Z
UID:477-1740218400-1740229200@pymmesbrookers.org.uk
SUMMARY:River Clean up - Bowes Meadow
DESCRIPTION:Join us on Saturday 22nd February \nPBers run river clean up sessions on Pymmes Brook. We welcome all ages and abilities. \nOur clean-ups are run volunteers trained by Thames21 on Leading River Action. Sessons are insured and include a health and safety briefing. We provide equipment including waders\, boots and litter pickers. \nPlease sign up in advance by emailing thepymmesbrookers@gmail.com so we can get an idea of numbers\,
URL:https://pymmesbrookers.org.uk/event/river-cleanup-bowes-meadow-2
LOCATION:Bowes Meadow\, Millicent Grove\, London\, N13 6HQ\, United Kingdom
CATEGORIES:River Cleanup
ORGANIZER;CN="Pymmes BrookERS":MAILTO:thepymmesbrookers@gmail.com
END:VEVENT
BEGIN:VEVENT
DTSTART;TZID=Europe/London:20250125T100000
DTEND;TZID=Europe/London:20250125T130000
DTSTAMP:20260424T192230
CREATED:20241121T203650Z
LAST-MODIFIED:20241121T203705Z
UID:475-1737799200-1737810000@pymmesbrookers.org.uk
SUMMARY:River Cleanup
DESCRIPTION:Join us on Saturday 25th January \nLocation to be confirmed \nPBers run river clean up sessions on Pymmes Brook. We welcome all ages and abilities. \nOur clean-ups are run volunteers trained by Thames21 on Leading River Action. Sessons are insured and include a health and safety briefing. We provide equipment including waders\, boots and litter pickers. \nPlease sign up in advance so we can get an idea of numbers\,
URL:https://pymmesbrookers.org.uk/event/river-cleanup-5
CATEGORIES:River Cleanup
END:VEVENT
BEGIN:VEVENT
DTSTART;TZID=Europe/London:20241123T100000
DTEND;TZID=Europe/London:20241123T130000
DTSTAMP:20260424T192230
CREATED:20241002T215703Z
LAST-MODIFIED:20241002T215809Z
UID:442-1732356000-1732366800@pymmesbrookers.org.uk
SUMMARY:River Cleanup - Tile Kiln Lane
DESCRIPTION:Join us on Saturday 23rd November \nPBers run river clean up sessions on Pymmes Brook. We welcome all ages and abilities. \nOur clean-ups are run volunteers trained by Thames21 on Leading River Action. Sessons are insured and include a health and safety briefing. We provide equipment including waders\, boots and litter pickers. \nPlease sign up in advance so we can get an idea of numbers\, \n 
URL:https://pymmesbrookers.org.uk/event/river-cleanup-tile-kiln-lane
LOCATION:Tile Kiln Lane\, Tile Kin Lane\, Enfield\, N13 6BY\, United Kingdom
ORGANIZER;CN="Pymmes BrookERS":MAILTO:thepymmesbrookers@gmail.com
END:VEVENT
BEGIN:VEVENT
DTSTART;TZID=Europe/London:20241019T100000
DTEND;TZID=Europe/London:20241019T130000
DTSTAMP:20260424T192230
CREATED:20240808T012413Z
LAST-MODIFIED:20241006T105626Z
UID:376-1729332000-1729342800@pymmesbrookers.org.uk
SUMMARY:River Cleanup– Brookside - East Barnet Village
DESCRIPTION:Saturday 19th October 2024. 10.00am-1.00pm \nEast Barnet Village – Brookside \n \nPlease email thepymmesbrookers@gmail.com for details
URL:https://pymmesbrookers.org.uk/event/376
LOCATION:EN4 8TT\, Brookside\, EN4 8TT\, United Kingdom
CATEGORIES:River Cleanup
ORGANIZER;CN="Pymmes BrookERS":MAILTO:thepymmesbrookers@gmail.com
END:VEVENT
BEGIN:VEVENT
DTSTART;TZID=Europe/London:20240921T100000
DTEND;TZID=Europe/London:20240921T130000
DTSTAMP:20260424T192230
CREATED:20240808T012222Z
LAST-MODIFIED:20240808T012458Z
UID:374-1726912800-1726923600@pymmesbrookers.org.uk
SUMMARY:River Cleanup
DESCRIPTION:All Welcome \nLocation to be confirmed \nPlease email for details
URL:https://pymmesbrookers.org.uk/event/river-cleanup-4
LOCATION:Pymmes Brook
CATEGORIES:River Cleanup
ORGANIZER;CN="Pymmes BrookERS":MAILTO:thepymmesbrookers@gmail.com
END:VEVENT
BEGIN:VEVENT
DTSTART;TZID=Europe/London:20240919T183000
DTEND;TZID=Europe/London:20240919T200000
DTSTAMP:20260424T192230
CREATED:20240819T113855Z
LAST-MODIFIED:20240819T113855Z
UID:412-1726770600-1726776000@pymmesbrookers.org.uk
SUMMARY:Pymmes Brookers Meeting
DESCRIPTION:The meeting will be held in the community room in Palmers Green Library\, Broomfield Lane\, N13 4EY. \nRefreshments will be available. \nPlease email thepymmesbrookers@gmail.com to let us know how many to allow for.
URL:https://pymmesbrookers.org.uk/event/pymmes-brookers-meeting
LOCATION:Palmers Green Library\, Broomfield Lane\, N13 4EY
ORGANIZER;CN="Pymmes BrookERS":MAILTO:thepymmesbrookers@gmail.com
END:VEVENT
BEGIN:VEVENT
DTSTART;TZID=Europe/London:20240831T100000
DTEND;TZID=Europe/London:20240831T130000
DTSTAMP:20260424T192230
CREATED:20240808T012044Z
LAST-MODIFIED:20240817T154603Z
UID:372-1725098400-1725109200@pymmesbrookers.org.uk
SUMMARY:River Cleanup
DESCRIPTION:All Welcome \nBowes Meadow N13 6HS \nTo join\, email thepymmesbrookers@gmail.com and we will send you details.
URL:https://pymmesbrookers.org.uk/event/river-cleanup-3
LOCATION:Pymmes Brook
CATEGORIES:River Cleanup
ORGANIZER;CN="Pymmes BrookERS":MAILTO:thepymmesbrookers@gmail.com
END:VEVENT
BEGIN:VEVENT
DTSTART;TZID=Europe/London:20240622T100000
DTEND;TZID=Europe/London:20240622T130000
DTSTAMP:20260424T192230
CREATED:20240421T215458Z
LAST-MODIFIED:20240808T015249Z
UID:173-1719050400-1719061200@pymmesbrookers.org.uk
SUMMARY:River Cleanup - London Rivers week - Wilbury Way
DESCRIPTION:Pymmes Brookers Event – Saturday 22nd June. Wilbury Way N18 1UY.\nLondon Rivers Week\, now in its eighth year\, is back from 22nd June to 30th June – and this year’s event promises to be bigger and better than ever. London Rivers Week is a week-long annual campaign inspiring the public to celebrate all of London’s rivers and the many projects taking place to protect them.\nThe Pymmes Brookers will play their part by carrying out a clean up and balsam bash at Wilbury Way. The wetland beside the brook has developed well since last year and is well worth a visit.\nIf you would like to join us please email thepymmesbrookers@gmail.com. I will send full details nearer to the date.\nCome along and be part of London Rivers Week.
URL:https://pymmesbrookers.org.uk/event/river-cleanup-2
LOCATION:N18 1UY\, Wilbury Way\, London\, N18 1UY\, United Kingdom
CATEGORIES:River Cleanup
ORGANIZER;CN="Pymmes BrookERS":MAILTO:thepymmesbrookers@gmail.com
END:VEVENT
BEGIN:VEVENT
DTSTART;TZID=Europe/London:20240518T100000
DTEND;TZID=Europe/London:20240518T130000
DTSTAMP:20260424T192230
CREATED:20240421T215315Z
LAST-MODIFIED:20240704T220402Z
UID:170-1716026400-1716037200@pymmesbrookers.org.uk
SUMMARY:River Cleanup
DESCRIPTION:All Welcome \nLocation to be confirmed \nPlease email for details
URL:https://pymmesbrookers.org.uk/event/170
ORGANIZER;CN="Pymmes BrookERS":MAILTO:thepymmesbrookers@gmail.com
END:VEVENT
BEGIN:VEVENT
DTSTART;TZID=Europe/London:20240316T100000
DTEND;TZID=Europe/London:20240316T130000
DTSTAMP:20260424T192230
CREATED:20240422T003809Z
LAST-MODIFIED:20240422T003854Z
UID:199-1710583200-1710594000@pymmesbrookers.org.uk
SUMMARY:River Cleanup Session - Wilbury Way
DESCRIPTION:The next Pymmes Brookers clean up event will take place on Saturday 16th March at Wilbury Way Wetland and Open Space. Come and see how the new wetland has developed and clean up the river at the same time..\n\n\nWe will provide waders\, wellies\, gloves and all of the necessary clean up equipment.\n\nIf you would like to join us please let me know by emailing thepymmesbrookers@gmail.com.so that I can let you have full details during next week.
URL:https://pymmesbrookers.org.uk/event/river-cleanup-session-wilbury-way
ORGANIZER;CN="Pymmes BrookERS":MAILTO:thepymmesbrookers@gmail.com
END:VEVENT
BEGIN:VEVENT
DTSTART;TZID=Europe/London:20231202T100000
DTEND;TZID=Europe/London:20231202T120000
DTSTAMP:20260424T192230
CREATED:20231117T234354Z
LAST-MODIFIED:20231117T234354Z
UID:114-1701511200-1701518400@pymmesbrookers.org.uk
SUMMARY:Enfield Society Litter Pick: Pymmes Brook Trail
DESCRIPTION:Litter Pick: Palmers Green\n\n\n\n \n\n\nWhen:\n02-Dec-2023 @ 10:00 am – 12:00 pm\n\n\nWhere:\nOakthorpe Road\n///good.shins.cook\n\n\n\n Litter clean-up\n\n\n\nWe will tackle a section of the Pymmes Brook Trail in Palmers Green. The meeting point is the green triangle on Oakthorpe Road opposite Arnold Gardens N13 5JH (what3words ///good.shins.cook). Palmers Green Station is nearby or buses 329 or 121 Palmers Green/The Triangle stop. Walk South on Green Lanes\, Oakthorpe Road is on the left. \nParticipation is at your own risk\, please bring gloves and wear stout footwear and let Alison Yates know if you are attending and need equipment. 0781 868 2073.
URL:https://pymmesbrookers.org.uk/event/enfield-society-litter-pick-pymmes-brook-trail
LOCATION:N13 5JH\, N13 5JH\, United Kingdom
END:VEVENT
BEGIN:VEVENT
DTSTART;TZID=Europe/London:20231125T100000
DTEND;TZID=Europe/London:20231125T130000
DTSTAMP:20260424T192230
CREATED:20231117T011043Z
LAST-MODIFIED:20231118T003141Z
UID:31-1700906400-1700917200@pymmesbrookers.org.uk
SUMMARY:River Cleanup - Bowes Meadow
DESCRIPTION:Join us on Saturday\n\nPBers run river clean up sessions on Pymmes Brook. We welcome all ages and abilities.\n\nOur clean-ups are run volunteers trained by Thames21 on Leading River Action. Sessons are insured and include a health and safety briefing. We provide equipment including waders\, boots and litter pickers.\n\n 
URL:https://pymmesbrookers.org.uk/event/river-cleanup
LOCATION:Bowes Meadow\, Millicent Grove\, London\, N13 6HQ\, United Kingdom
END:VEVENT
BEGIN:VEVENT
DTSTART;TZID=Europe/London:20230930T100000
DTEND;TZID=Europe/London:20230930T130000
DTSTAMP:20260424T192230
CREATED:20231117T233821Z
LAST-MODIFIED:20231118T012153Z
UID:111-1696068000-1696078800@pymmesbrookers.org.uk
SUMMARY:Wilbury Way Wetland Planting
DESCRIPTION:Please sign up on Thames 21 Website so we can get an idea of numbers.
URL:https://pymmesbrookers.org.uk/event/thames21-wilbury-way-wetland-planting
LOCATION:N18 1UY\, Wilbury Way\, London\, N18 1UY\, United Kingdom
END:VEVENT
BEGIN:VEVENT
DTSTART;TZID=Europe/London:20230826T100000
DTEND;TZID=Europe/London:20230826T130000
DTSTAMP:20260424T192230
CREATED:20240808T014744Z
LAST-MODIFIED:20240808T014744Z
UID:389-1693044000-1693054800@pymmesbrookers.org.uk
SUMMARY:River Cleanup - Wilbury Way
DESCRIPTION:Enfield Council has recently completed the construction of a new wetland at Wilbury Way Open Space in Edmonton. This opens a new section of the river which had previously been hidden behind fences. It also means that there is another section of the river needing our attention. The map below shows the Wilbury Way Open Space and the brook adjacent to it. \n\n\nEnfield have cleared the banks and surroundings on the south side of the river as part of the wetland works but the river and the north bank will need some work from the Pymmes Brookers..It will be a great opportunity to see the new wetland and to enhance the local area.\n\nIf you are able to join us on Saturday 26th August from 10am please reply to this email to let me know.
URL:https://pymmesbrookers.org.uk/event/river-cleanup-wilbury-way
LOCATION:Wilbury Way\, N18 1UY\, United Kingdom
CATEGORIES:River Cleanup
ORGANIZER;CN="Pymmes BrookERS":MAILTO:thepymmesbrookers@gmail.com
END:VEVENT
BEGIN:VEVENT
DTSTART;TZID=Europe/London:20230617T100000
DTEND;TZID=Europe/London:20230617T130000
DTSTAMP:20260424T192230
CREATED:20240808T014259Z
LAST-MODIFIED:20240808T015100Z
UID:385-1686996000-1687006800@pymmesbrookers.org.uk
SUMMARY:River Cleanup - Tanners End Lane
DESCRIPTION:We are looking to arrange our next clean by making a return visit to Tanners End Lane\, N18 1PQ. Earlier this year the water levels were too high to allow us to get in the stream. This time we should be able to get in the water. \n 
URL:https://pymmesbrookers.org.uk/event/river-cleanup-tanners-end-lane
LOCATION:Tanners End Lane\, N18 1PQ\, United Kingdom
CATEGORIES:River Cleanup
ORGANIZER;CN="Pymmes BrookERS":MAILTO:thepymmesbrookers@gmail.com
END:VEVENT
BEGIN:VEVENT
DTSTART;TZID=Europe/London:20230422T100000
DTEND;TZID=Europe/London:20230422T130000
DTSTAMP:20260424T192230
CREATED:20240808T013831Z
LAST-MODIFIED:20240808T013831Z
UID:382-1682157600-1682168400@pymmesbrookers.org.uk
SUMMARY:River Cleanup - Waterfall Walk
DESCRIPTION:Clean up time again \nThe next Pymmes Brookers clean up will be held on Saturday 22nd April.\nWe will be returning to the Waterfall Walk stretch of the brook but will be working from the cemetery towards Waterfall Road.\n\n\nIf you can join us please email thepymmesbrookers@gmail.com and we will provide full details.The weather is improving now so let’s make the brook a nicer place to be.\n\nCome and make a difference.
URL:https://pymmesbrookers.org.uk/event/river-cleanup-waterfall-walk
LOCATION:Waterfall Walk
CATEGORIES:River Cleanup
ORGANIZER;CN="Pymmes BrookERS":MAILTO:thepymmesbrookers@gmail.com
END:VEVENT
BEGIN:VEVENT
DTSTART;TZID=Europe/London:20230119T100000
DTEND;TZID=Europe/London:20230119T130000
DTSTAMP:20260424T192230
CREATED:20240808T013607Z
LAST-MODIFIED:20240808T013607Z
UID:380-1674122400-1674133200@pymmesbrookers.org.uk
SUMMARY:River Cleanup - Bowes Meadow -
DESCRIPTION:Join the Pymmes BrookERS River Action Group to clean up the Pymmes Brook at Bowes Meadow.\n\nThe group will: \n\nClear litter and debris from brook\, banks and waterway\,\nLitter pick on the North side of the brook in two accessible places.\nLitter pick South side of the Brook where accessible.\n\nMeet at: Bowes Meadow by the basketball court at the end of Millicent Grove N13 6HF \nHow to get there:\nThere is unrestricted parking at the end of Millicent Grove on Brookside and Church Hill car park\n34 and 102 bus stops nearby\nNearest Stations: Palmers Green approx 1km\, Silver Street\, Bowes Park 1.5km\, Bounds Green\, Wood Green 2km \nBring with you: Your lunch and plenty of water. Suitable sturdy footwear\, always recommended for attending any of our events. Please also dress suitably for the weather! \nEveryone is welcome\, but please contact the Pymmes BrookERS if want to attend –  thepymmesbrookers@gmail.com \n\nCome along and make friends and a difference!
URL:https://pymmesbrookers.org.uk/event/river-cleanup-bowes-meadow
LOCATION:Bowes Meadow\, Millicent Grove\, London\, N13 6HQ\, United Kingdom
CATEGORIES:River Cleanup
ORGANIZER;CN="Pymmes BrookERS":MAILTO:thepymmesbrookers@gmail.com
END:VEVENT
END:VCALENDAR