BEGIN:VCALENDAR
VERSION:2.0
PRODID:-//Pymmes BrookERS  - ECPv6.15.20//NONSGML v1.0//EN
CALSCALE:GREGORIAN
METHOD:PUBLISH
X-WR-CALNAME:Pymmes BrookERS 
X-ORIGINAL-URL:https://pymmesbrookers.org.uk
X-WR-CALDESC:Events for Pymmes BrookERS 
REFRESH-INTERVAL;VALUE=DURATION:PT1H
X-Robots-Tag:noindex
X-PUBLISHED-TTL:PT1H
BEGIN:VTIMEZONE
TZID:Europe/London
BEGIN:DAYLIGHT
TZOFFSETFROM:+0000
TZOFFSETTO:+0100
TZNAME:BST
DTSTART:20250330T010000
END:DAYLIGHT
BEGIN:STANDARD
TZOFFSETFROM:+0100
TZOFFSETTO:+0000
TZNAME:GMT
DTSTART:20251026T010000
END:STANDARD
BEGIN:DAYLIGHT
TZOFFSETFROM:+0000
TZOFFSETTO:+0100
TZNAME:BST
DTSTART:20260329T010000
END:DAYLIGHT
BEGIN:STANDARD
TZOFFSETFROM:+0100
TZOFFSETTO:+0000
TZNAME:GMT
DTSTART:20261025T010000
END:STANDARD
BEGIN:DAYLIGHT
TZOFFSETFROM:+0000
TZOFFSETTO:+0100
TZNAME:BST
DTSTART:20270328T010000
END:DAYLIGHT
BEGIN:STANDARD
TZOFFSETFROM:+0100
TZOFFSETTO:+0000
TZNAME:GMT
DTSTART:20271031T010000
END:STANDARD
END:VTIMEZONE
BEGIN:VEVENT
DTSTART;TZID=Europe/London:20260425T100000
DTEND;TZID=Europe/London:20260425T130000
DTSTAMP:20260424T142916
CREATED:20260311T111624Z
LAST-MODIFIED:20260311T111624Z
UID:577-1777111200-1777122000@pymmesbrookers.org.uk
SUMMARY:River Cleanup - Bowes Meadow
DESCRIPTION:Join us on Saturday 25th April at Bowes Meadow \nPBers run river clean up sessions on Pymmes Brook. We welcome all ages and abilities. \nOur clean-ups are run volunteers trained by Thames21 on Leading River Action. Sessions are insured and include a health and safety briefing. We provide equipment including waders\, boots and litter pickers. \nPlease sign up in advance by emailing thepymmesbrookers@gmail.com so we can get an idea of numbers.
URL:https://pymmesbrookers.org.uk/event/river-cleanup-bowes-meadow-4
LOCATION:Bowes Meadow\, Millicent Grove\, London\, N13 6HQ\, United Kingdom
CATEGORIES:River Cleanup
ORGANIZER;CN="Pymmes BrookERS":MAILTO:thepymmesbrookers@gmail.com
END:VEVENT
BEGIN:VEVENT
DTSTART;TZID=Europe/London:20260530T100000
DTEND;TZID=Europe/London:20260530T130000
DTSTAMP:20260424T142916
CREATED:20260311T111817Z
LAST-MODIFIED:20260311T111817Z
UID:579-1780135200-1780146000@pymmesbrookers.org.uk
SUMMARY:River Cleanup - Waterfall Walk
DESCRIPTION:Join us on Saturday 30th May at Waterfall Walk \nPBers run river clean up sessions on Pymmes Brook. We welcome all ages and abilities. \nOur clean-ups are run volunteers trained by Thames21 on Leading River Action. Sessions are insured and include a health and safety briefing. We provide equipment including waders\, boots and litter pickers. \nPlease sign up in advance by emailing thepymmesbrookers@gmail.com so we can get an idea of numbers.
URL:https://pymmesbrookers.org.uk/event/river-cleanup-waterfall-walk-3
LOCATION:Waterfall Walk
CATEGORIES:River Cleanup
END:VEVENT
END:VCALENDAR